BEGIN:VCALENDAR
VERSION:2.0
PRODID:-//The Como Hotel - ECPv6.11.2.1//NONSGML v1.0//EN
CALSCALE:GREGORIAN
METHOD:PUBLISH
X-WR-CALNAME:The Como Hotel
X-ORIGINAL-URL:https://thecomo.com.au
X-WR-CALDESC:Events for The Como Hotel
REFRESH-INTERVAL;VALUE=DURATION:PT1H
X-Robots-Tag:noindex
X-PUBLISHED-TTL:PT1H
BEGIN:VTIMEZONE
TZID:Australia/Sydney
BEGIN:STANDARD
TZOFFSETFROM:+1100
TZOFFSETTO:+1000
TZNAME:AEST
DTSTART:20260404T160000
END:STANDARD
BEGIN:DAYLIGHT
TZOFFSETFROM:+1000
TZOFFSETTO:+1100
TZNAME:AEDT
DTSTART:20261003T160000
END:DAYLIGHT
END:VTIMEZONE
BEGIN:VEVENT
DTSTART;TZID=Australia/Sydney:20260405T110000
DTEND;TZID=Australia/Sydney:20260405T170000
DTSTAMP:20260424T233939
CREATED:20260330T035917Z
LAST-MODIFIED:20260330T035917Z
UID:603-1775386800-1775408400@thecomo.com.au
SUMMARY:Easter
DESCRIPTION:Easter Raffle Sunday at Como Hotel 🐰\nWin a Seafood Platter and Easter Egg Hamper!\nRaffle drawn at 2pm | Face Painting from 2pm – 4pm\nPlus\, the adults can enjoy Easter egg cocktails and a delicious seafood platter available 3rd – 5th April for just $69\n✨ Don’t miss out! Book now\, link in bio or head to our website.
URL:https://thecomo.com.au/offer/easter/
ATTACH;FMTTYPE=image/jpeg:https://thecomo.com.au/wp-content/uploads/2026/03/Como-Easter-2026_Tile-1.jpg
END:VEVENT
END:VCALENDAR