BEGIN:VCALENDAR
VERSION:2.0
PRODID:-//The Como Hotel - ECPv6.11.2.1//NONSGML v1.0//EN
CALSCALE:GREGORIAN
METHOD:PUBLISH
X-WR-CALNAME:The Como Hotel
X-ORIGINAL-URL:https://thecomo.com.au
X-WR-CALDESC:Events for The Como Hotel
REFRESH-INTERVAL;VALUE=DURATION:PT1H
X-Robots-Tag:noindex
X-PUBLISHED-TTL:PT1H
BEGIN:VTIMEZONE
TZID:Australia/Sydney
BEGIN:STANDARD
TZOFFSETFROM:+1100
TZOFFSETTO:+1000
TZNAME:AEST
DTSTART:20260404T160000
END:STANDARD
BEGIN:DAYLIGHT
TZOFFSETFROM:+1000
TZOFFSETTO:+1100
TZNAME:AEDT
DTSTART:20261003T160000
END:DAYLIGHT
BEGIN:STANDARD
TZOFFSETFROM:+1100
TZOFFSETTO:+1000
TZNAME:AEST
DTSTART:20270403T160000
END:STANDARD
BEGIN:DAYLIGHT
TZOFFSETFROM:+1000
TZOFFSETTO:+1100
TZNAME:AEDT
DTSTART:20271002T160000
END:DAYLIGHT
END:VTIMEZONE
BEGIN:VEVENT
DTSTART;TZID=Australia/Sydney:20260407T170000
DTEND;TZID=Australia/Sydney:20270131T210000
DTSTAMP:20260424T234312
CREATED:20260407T014854Z
LAST-MODIFIED:20260407T014854Z
UID:620-1775581200-1801429200@thecomo.com.au
SUMMARY:Monday Tacos & Nachos Night
DESCRIPTION:Every Monday – $6 tacos and $19 nachos from 5pm – 9pm. See you then!
URL:https://thecomo.com.au/offer/monday-tacos-nachos-night/
ATTACH;FMTTYPE=image/jpeg:https://thecomo.com.au/wp-content/uploads/2026/04/ComoWeeklySpecial_MondayTacos1x1.jpg
END:VEVENT
END:VCALENDAR