BEGIN:VCALENDAR
VERSION:2.0
PRODID:-//The Como Hotel - ECPv6.11.2.1//NONSGML v1.0//EN
CALSCALE:GREGORIAN
METHOD:PUBLISH
X-WR-CALNAME:The Como Hotel
X-ORIGINAL-URL:https://thecomo.com.au
X-WR-CALDESC:Events for The Como Hotel
REFRESH-INTERVAL;VALUE=DURATION:PT1H
X-Robots-Tag:noindex
X-PUBLISHED-TTL:PT1H
BEGIN:VTIMEZONE
TZID:Australia/Sydney
BEGIN:STANDARD
TZOFFSETFROM:+1100
TZOFFSETTO:+1000
TZNAME:AEST
DTSTART:20260404T160000
END:STANDARD
BEGIN:DAYLIGHT
TZOFFSETFROM:+1000
TZOFFSETTO:+1100
TZNAME:AEDT
DTSTART:20261003T160000
END:DAYLIGHT
END:VTIMEZONE
BEGIN:VEVENT
DTSTART;TZID=Australia/Sydney:20260509T120000
DTEND;TZID=Australia/Sydney:20260510T140000
DTSTAMP:20260424T234312
CREATED:20260421T040013Z
LAST-MODIFIED:20260421T040020Z
UID:639-1778328000-1778421600@thecomo.com.au
SUMMARY:Mother's Day Paint & Sip
DESCRIPTION:Sip\, Paint & Celebrate Mum! ✨🍷\nThis Mother’s Day\, treat Mum\, Nan or the special mother figure in your life to a creative and unforgettable experience at Como Hotel’s Paint & Sip! \n$99 per person\nFree-flowing bubbles and house wine for 2 hours\nA fun & relaxing paint session for 2 hours \nFeeling nibbly? Purchase a charcuterie board for $40. \nSpots are limited\, so book now and spoil your special person! 💕 \nBook here
URL:https://thecomo.com.au/offer/mothers-day-paint-sip-2/
ATTACH;FMTTYPE=image/png:https://thecomo.com.au/wp-content/uploads/2026/04/fwef.png
END:VEVENT
END:VCALENDAR