BEGIN:VCALENDAR
VERSION:2.0
PRODID:-//The Como Hotel - ECPv6.11.2.1//NONSGML v1.0//EN
CALSCALE:GREGORIAN
METHOD:PUBLISH
X-WR-CALNAME:The Como Hotel
X-ORIGINAL-URL:https://thecomo.com.au
X-WR-CALDESC:Events for The Como Hotel
REFRESH-INTERVAL;VALUE=DURATION:PT1H
X-Robots-Tag:noindex
X-PUBLISHED-TTL:PT1H
BEGIN:VTIMEZONE
TZID:Australia/Sydney
BEGIN:STANDARD
TZOFFSETFROM:+1100
TZOFFSETTO:+1000
TZNAME:AEST
DTSTART:20260404T160000
END:STANDARD
BEGIN:DAYLIGHT
TZOFFSETFROM:+1000
TZOFFSETTO:+1100
TZNAME:AEDT
DTSTART:20261003T160000
END:DAYLIGHT
END:VTIMEZONE
BEGIN:VEVENT
DTSTART;VALUE=DATE:20260316
DTEND;VALUE=DATE:20260323
DTSTAMP:20260424T234414
CREATED:20260227T054307Z
LAST-MODIFIED:20260227T054307Z
UID:585-1773619200-1774223999@thecomo.com.au
SUMMARY:Split The G and Get A Spice Bag Free
DESCRIPTION:From March 16-22\, we’re letting you split the G and if you do\, your spice bag is on us!\nTry your luck and celebrate St Paddy’s day with us! 🍀
URL:https://thecomo.com.au/offer/split-the-g-and-get-a-spice-bag-free/
ATTACH;FMTTYPE=image/jpeg:https://thecomo.com.au/wp-content/uploads/2026/02/Tile-8.jpg
END:VEVENT
END:VCALENDAR