BEGIN:VCALENDAR
VERSION:2.0
PRODID:-//The Como Hotel - ECPv6.11.2.1//NONSGML v1.0//EN
CALSCALE:GREGORIAN
METHOD:PUBLISH
X-WR-CALNAME:The Como Hotel
X-ORIGINAL-URL:https://thecomo.com.au
X-WR-CALDESC:Events for The Como Hotel
REFRESH-INTERVAL;VALUE=DURATION:PT1H
X-Robots-Tag:noindex
X-PUBLISHED-TTL:PT1H
BEGIN:VTIMEZONE
TZID:Australia/Sydney
BEGIN:STANDARD
TZOFFSETFROM:+1100
TZOFFSETTO:+1000
TZNAME:AEST
DTSTART:20260404T160000
END:STANDARD
BEGIN:DAYLIGHT
TZOFFSETFROM:+1000
TZOFFSETTO:+1100
TZNAME:AEDT
DTSTART:20261003T160000
END:DAYLIGHT
END:VTIMEZONE
BEGIN:VEVENT
DTSTART;TZID=Australia/Sydney:20260527T170000
DTEND;TZID=Australia/Sydney:20260527T220000
DTSTAMP:20260424T234246
CREATED:20260420T010303Z
LAST-MODIFIED:20260420T041141Z
UID:633-1779901200-1779919200@thecomo.com.au
SUMMARY:State Of Origin
DESCRIPTION:State of Origin is back and we’re showing it LIVE & LOUD at Como 🔥 \nWednesday\, May 27 — lock it in. \n🍺 Buy any Tooheys New and go in the draw to WIN a Blues jersey🥩 $24 steaks to keep you going from kick-off to final siren \nBook your table here
URL:https://thecomo.com.au/offer/state-of-origin-2/
ATTACH;FMTTYPE=image/jpeg:https://thecomo.com.au/wp-content/uploads/2026/04/COMO_SOO_2026_Tile.jpg
END:VEVENT
END:VCALENDAR