BEGIN:VCALENDAR
VERSION:2.0
PRODID:-//The Como Hotel - ECPv6.11.2.1//NONSGML v1.0//EN
CALSCALE:GREGORIAN
METHOD:PUBLISH
X-ORIGINAL-URL:https://thecomo.com.au
X-WR-CALDESC:Events for The Como Hotel
REFRESH-INTERVAL;VALUE=DURATION:PT1H
X-Robots-Tag:noindex
X-PUBLISHED-TTL:PT1H
BEGIN:VTIMEZONE
TZID:Australia/Sydney
BEGIN:STANDARD
TZOFFSETFROM:+1100
TZOFFSETTO:+1000
TZNAME:AEST
DTSTART:20250405T160000
END:STANDARD
BEGIN:DAYLIGHT
TZOFFSETFROM:+1000
TZOFFSETTO:+1100
TZNAME:AEDT
DTSTART:20251004T160000
END:DAYLIGHT
BEGIN:STANDARD
TZOFFSETFROM:+1100
TZOFFSETTO:+1000
TZNAME:AEST
DTSTART:20260404T160000
END:STANDARD
BEGIN:DAYLIGHT
TZOFFSETFROM:+1000
TZOFFSETTO:+1100
TZNAME:AEDT
DTSTART:20261003T160000
END:DAYLIGHT
END:VTIMEZONE
BEGIN:VTIMEZONE
TZID:UTC
BEGIN:STANDARD
TZOFFSETFROM:+0000
TZOFFSETTO:+0000
TZNAME:UTC
DTSTART:20250101T000000
END:STANDARD
END:VTIMEZONE
BEGIN:VEVENT
DTSTART;TZID=Australia/Sydney:20250826T190000
DTEND;TZID=Australia/Sydney:20250826T210000
DTSTAMP:20260424T234348
CREATED:20250724T063506Z
LAST-MODIFIED:20250724T063506Z
UID:10000022-1756234800-1756242000@thecomo.com.au
SUMMARY:Friends Trivia
DESCRIPTION:Could this BE any more fun? 🎉Friends Trivia is coming to Como Hotel on August 26th at 7pm!🍗 $17 schnitzels🍹 Friends-themed cocktailsGrab your mates and book a table.
URL:https://thecomo.com.au/offer/friends-trivia/
ATTACH;FMTTYPE=image/jpeg:https://thecomo.com.au/wp-content/uploads/2025/07/Como-Friends-Trivia_tile.jpg
END:VEVENT
BEGIN:VEVENT
DTSTART;TZID=Australia/Sydney:20250822T080000
DTEND;TZID=Australia/Sydney:20260416T170000
DTSTAMP:20260424T234348
CREATED:20250822T063331Z
LAST-MODIFIED:20250822T063331Z
UID:10000089-1755849600-1776358800@thecomo.com.au
SUMMARY:Salty Sundays
DESCRIPTION:Enjoy $12 margaritas all day every Sunday!
URL:https://thecomo.com.au/offer/salty-sundays/
CATEGORIES:Specials
ATTACH;FMTTYPE=image/jpeg:https://thecomo.com.au/wp-content/uploads/2025/04/COMO_Specials2.jpg
END:VEVENT
BEGIN:VEVENT
DTSTART;TZID=Australia/Sydney:20250804T080000
DTEND;TZID=Australia/Sydney:20250908T170000
DTSTAMP:20260424T234348
CREATED:20250804T050927Z
LAST-MODIFIED:20250804T051034Z
UID:10000023-1754294400-1757350800@thecomo.com.au
SUMMARY:Father's Day
DESCRIPTION:Join us for our Father’s Day Raffle on 7th Sep!
URL:https://thecomo.com.au/offer/fathers-day/
ATTACH;FMTTYPE=image/jpeg:https://thecomo.com.au/wp-content/uploads/2025/08/Como-Fathers-Day-Tile.jpg
END:VEVENT
BEGIN:VEVENT
DTSTART;TZID=Australia/Sydney:20250701T080000
DTEND;TZID=Australia/Sydney:20250731T170000
DTSTAMP:20260424T234348
CREATED:20250519T011213Z
LAST-MODIFIED:20250612T020627Z
UID:10000016-1751356800-1753981200@thecomo.com.au
SUMMARY:Christmas In July
DESCRIPTION:Christmas in July at The Como\nGather your colleagues\, friends or family and celebrate the magic of Christmas – mid-year style! \nWhether you missed out in December or just love an excuse to get festive\, our Christmas in July packages are the perfect way to warm up your winter. \nGroup Packages – Minimum 10 Guests \nAvailable for lunch or dinner\, any day throughout July. \nChoose from our festive feasting options: \n2-Course Grazing Set Menu – $65pp \n3-Course Grazing Set Menu – $75pp \n3-Course Alternate Drop Menu – $70pp \nBook your table today📧 Email: events@thecomo.com.au
URL:https://thecomo.com.au/offer/christmas-in-july/
ATTACH;FMTTYPE=image/jpeg:https://thecomo.com.au/wp-content/uploads/2025/05/Christmas-in-July-2025-Tile-1.jpg
END:VEVENT
BEGIN:VEVENT
DTSTART;TZID=Australia/Sydney:20250610T080000
DTEND;TZID=Australia/Sydney:20250610T170000
DTSTAMP:20260424T234348
CREATED:20250610T025349Z
LAST-MODIFIED:20250612T020416Z
UID:10000020-1749542400-1749574800@thecomo.com.au
SUMMARY:Christmas In July
DESCRIPTION:Christmas in July is here at Como Hotel! 🎄\nWhether you’re into grazing or a classic sit-down feast\, we’ve got the goods.\nGrazing style set menu:\n2-course – $65pp\n3-course – $75pp \nAlternate drop menu:\n3-course – $70pp \nAvailable for lunch or dinner any day in July. Minimum of 10 people. Book your table via email at events@thecomo.com.au
URL:https://thecomo.com.au/offer/christmas-in-july-2/
ATTACH;FMTTYPE=image/jpeg:https://thecomo.com.au/wp-content/uploads/2025/06/Christmas-in-July-2025-Tile-3.jpg
END:VEVENT
BEGIN:VEVENT
DTSTART;TZID=Australia/Sydney:20250519T080000
DTEND;TZID=Australia/Sydney:20250519T170000
DTSTAMP:20260424T234348
CREATED:20250519T011555Z
LAST-MODIFIED:20250519T011555Z
UID:10000018-1747641600-1747674000@thecomo.com.au
SUMMARY:Events At The Como
DESCRIPTION:Looking for the perfect venue to host your next special occasion? For all event enquiries contact events@thecomo.com.au or call us on (02) 9528 9900.
URL:https://thecomo.com.au/offer/events-at-the-como/
ATTACH;FMTTYPE=image/jpeg:https://thecomo.com.au/wp-content/uploads/2025/05/Events-2025-Tile.jpg
END:VEVENT
BEGIN:VEVENT
DTSTART;TZID=Australia/Sydney:20250430T080000
DTEND;TZID=Australia/Sydney:20250430T170000
DTSTAMP:20260424T234348
CREATED:20250430T032832Z
LAST-MODIFIED:20250430T032832Z
UID:10000015-1746000000-1746032400@thecomo.com.au
SUMMARY:Mother's Day Paint & Sip
DESCRIPTION:Sip\, Paint & Celebrate Mum!  \nThis Mother’s Day\, treat Mum to a creative and unforgettable experience at Como Hotel’s Paint & Sip. \n$60 per person \nBubbles on arrival included – because Mum deserves the best! \nA fun & relaxing paint session for 2 hours – no experience needed. \nSpots are limited\, so BOOK NOW and make this Mother’s Day one to remember. 💕
URL:https://thecomo.com.au/offer/mothers-day-paint-sip/
CATEGORIES:Events
ATTACH;FMTTYPE=image/jpeg:https://thecomo.com.au/wp-content/uploads/2025/04/Frame-102.jpg
END:VEVENT
BEGIN:VEVENT
DTSTART;TZID=Australia/Sydney:20250101T080000
DTEND;TZID=Australia/Sydney:20251231T170000
DTSTAMP:20260424T234348
CREATED:20250430T031911Z
LAST-MODIFIED:20250430T031911Z
UID:10000010-1735718400-1767200400@thecomo.com.au
SUMMARY:Wednesday Burgers & Sandwiches
DESCRIPTION:Sink your teeth into our stacked burgers and hearty sandwiches for just $20. Available Wednesday nights from 5pm to 9pm.
URL:https://thecomo.com.au/offer/wednesday-burgers-sandwiches/
CATEGORIES:Specials
ATTACH;FMTTYPE=image/jpeg:https://thecomo.com.au/wp-content/uploads/2025/04/COMO_Specials1x1-37.jpg
END:VEVENT
BEGIN:VEVENT
DTSTART;VALUE=DATE:20250101
DTEND;VALUE=DATE:20250904
DTSTAMP:20260424T234348
CREATED:20250429T165128Z
LAST-MODIFIED:20250430T030608Z
UID:10000009-1735689600-1756943999@thecomo.com.au
SUMMARY:Tuesday Schnitzel Day
DESCRIPTION:Tuesdays are for schnitzels! Enjoy a golden\, crispy schnitty with chips\, salad\, and your choice of sauce for just $17. Available all day.
URL:https://thecomo.com.au/offer/tuesday-schnitzel-day/
CATEGORIES:Specials
ATTACH;FMTTYPE=image/jpeg:https://thecomo.com.au/wp-content/uploads/2025/04/COMO_Specials1x1-36.jpg
END:VEVENT
END:VCALENDAR